BEGIN:VCALENDAR
VERSION:2.0
PRODID:-//Wisconsin PGA - ECPv6.15.20//NONSGML v1.0//EN
CALSCALE:GREGORIAN
METHOD:PUBLISH
X-WR-CALNAME:Wisconsin PGA
X-ORIGINAL-URL:https://wisconsin.pga.com
X-WR-CALDESC:Events for Wisconsin PGA
REFRESH-INTERVAL;VALUE=DURATION:PT1H
X-Robots-Tag:noindex
X-PUBLISHED-TTL:PT1H
BEGIN:VTIMEZONE
TZID:America/Chicago
BEGIN:DAYLIGHT
TZOFFSETFROM:-0600
TZOFFSETTO:-0500
TZNAME:CDT
DTSTART:20250309T080000
END:DAYLIGHT
BEGIN:STANDARD
TZOFFSETFROM:-0500
TZOFFSETTO:-0600
TZNAME:CST
DTSTART:20251102T070000
END:STANDARD
BEGIN:DAYLIGHT
TZOFFSETFROM:-0600
TZOFFSETTO:-0500
TZNAME:CDT
DTSTART:20260308T080000
END:DAYLIGHT
BEGIN:STANDARD
TZOFFSETFROM:-0500
TZOFFSETTO:-0600
TZNAME:CST
DTSTART:20261101T070000
END:STANDARD
BEGIN:DAYLIGHT
TZOFFSETFROM:-0600
TZOFFSETTO:-0500
TZNAME:CDT
DTSTART:20270314T080000
END:DAYLIGHT
BEGIN:STANDARD
TZOFFSETFROM:-0500
TZOFFSETTO:-0600
TZNAME:CST
DTSTART:20271107T070000
END:STANDARD
END:VTIMEZONE
BEGIN:VEVENT
DTSTART;VALUE=DATE:20260426
DTEND;VALUE=DATE:20260430
DTSTAMP:20260425T081840
CREATED:20260308T145331Z
LAST-MODIFIED:20260308T145331Z
UID:10000713-1777161600-1777507199@wisconsin.pga.com
SUMMARY:PGA Professional Championship
DESCRIPTION:
URL:https://wisconsin.pga.com/event/pga-professional-championship-3/
LOCATION:Bandon Dunes Golf Resort\, 57744 Round Lake Rd\, Bandon\, OR\, 97411\, United States
CATEGORIES:National PGA Member Championships
GEO:43.1888563;-124.3902376
X-APPLE-STRUCTURED-LOCATION;VALUE=URI;X-ADDRESS=Bandon Dunes Golf Resort 57744 Round Lake Rd Bandon OR 97411 United States;X-APPLE-RADIUS=500;X-TITLE=57744 Round Lake Rd:geo:-124.3902376,43.1888563
END:VEVENT
BEGIN:VEVENT
DTSTART;VALUE=DATE:20260427
DTEND;VALUE=DATE:20260428
DTSTAMP:20260425T081840
CREATED:20260304T013344Z
LAST-MODIFIED:20260304T013344Z
UID:10000641-1777248000-1777334399@wisconsin.pga.com
SUMMARY:TaylorMade Pro-Am
DESCRIPTION:
URL:https://wisconsin.pga.com/event/taylormade-pro-am-3/
LOCATION:Wisconsin CC\, 6200 West Good Hope Rd\, Milwaukee\, WI\, 53223\, United States
CATEGORIES:All Tournaments,Pro-Ams
GEO:43.1500616;-87.988826
X-APPLE-STRUCTURED-LOCATION;VALUE=URI;X-ADDRESS=Wisconsin CC 6200 West Good Hope Rd Milwaukee WI 53223 United States;X-APPLE-RADIUS=500;X-TITLE=6200 West Good Hope Rd:geo:-87.988826,43.1500616
END:VEVENT
BEGIN:VEVENT
DTSTART;VALUE=DATE:20260429
DTEND;VALUE=DATE:20260430
DTSTAMP:20260425T081840
CREATED:20260304T014339Z
LAST-MODIFIED:20260304T014339Z
UID:10000643-1777420800-1777507199@wisconsin.pga.com
SUMMARY:WPGA / WGCSA Premier Golf & Utility Vehicles Super-Pro
DESCRIPTION:
URL:https://wisconsin.pga.com/event/wpga-wgcsa-premier-golf-utility-vehicles-super-pro-3/
LOCATION:Whistling Straits – Irish Course\, N8501 Lakeshore Road\, Sheboygan\, WI\, 53083\, United States
CATEGORIES:All Tournaments
GEO:43.8510334;-87.7352705
X-APPLE-STRUCTURED-LOCATION;VALUE=URI;X-ADDRESS=Whistling Straits – Irish Course N8501 Lakeshore Road Sheboygan WI 53083 United States;X-APPLE-RADIUS=500;X-TITLE=N8501 Lakeshore Road:geo:-87.7352705,43.8510334
END:VEVENT
END:VCALENDAR