BEGIN:VCALENDAR
VERSION:2.0
PRODID:-//Wisconsin PGA - ECPv6.15.20//NONSGML v1.0//EN
CALSCALE:GREGORIAN
METHOD:PUBLISH
X-WR-CALNAME:Wisconsin PGA
X-ORIGINAL-URL:https://wisconsin.pga.com
X-WR-CALDESC:Events for Wisconsin PGA
REFRESH-INTERVAL;VALUE=DURATION:PT1H
X-Robots-Tag:noindex
X-PUBLISHED-TTL:PT1H
BEGIN:VTIMEZONE
TZID:America/Chicago
BEGIN:DAYLIGHT
TZOFFSETFROM:-0600
TZOFFSETTO:-0500
TZNAME:CDT
DTSTART:20240310T080000
END:DAYLIGHT
BEGIN:STANDARD
TZOFFSETFROM:-0500
TZOFFSETTO:-0600
TZNAME:CST
DTSTART:20241103T070000
END:STANDARD
BEGIN:DAYLIGHT
TZOFFSETFROM:-0600
TZOFFSETTO:-0500
TZNAME:CDT
DTSTART:20250309T080000
END:DAYLIGHT
BEGIN:STANDARD
TZOFFSETFROM:-0500
TZOFFSETTO:-0600
TZNAME:CST
DTSTART:20251102T070000
END:STANDARD
BEGIN:DAYLIGHT
TZOFFSETFROM:-0600
TZOFFSETTO:-0500
TZNAME:CDT
DTSTART:20260308T080000
END:DAYLIGHT
BEGIN:STANDARD
TZOFFSETFROM:-0500
TZOFFSETTO:-0600
TZNAME:CST
DTSTART:20261101T070000
END:STANDARD
END:VTIMEZONE
BEGIN:VEVENT
DTSTART;VALUE=DATE:20250915
DTEND;VALUE=DATE:20250916
DTSTAMP:20260421T091259
CREATED:20250322T040608Z
LAST-MODIFIED:20250322T040608Z
UID:10000580-1757894400-1757980799@wisconsin.pga.com
SUMMARY:P.A.T. #5
DESCRIPTION:
URL:https://wisconsin.pga.com/event/p-a-t-5-2/
LOCATION:Dretzka Park GC\, 12020 W Bradley Road\, Milwaukee\, WI\, 53224\, United States
CATEGORIES:All Tournaments,P.A.T.
GEO:43.1682804;-88.0564808
X-APPLE-STRUCTURED-LOCATION;VALUE=URI;X-ADDRESS=Dretzka Park GC 12020 W Bradley Road Milwaukee WI 53224 United States;X-APPLE-RADIUS=500;X-TITLE=12020 W Bradley Road:geo:-88.0564808,43.1682804
END:VEVENT
BEGIN:VEVENT
DTSTART;VALUE=DATE:20250915
DTEND;VALUE=DATE:20250917
DTSTAMP:20260421T091259
CREATED:20250322T034055Z
LAST-MODIFIED:20250322T034055Z
UID:10000552-1757894400-1758067199@wisconsin.pga.com
SUMMARY:Wisconsin PGA Professional Championship
DESCRIPTION:
URL:https://wisconsin.pga.com/event/wisconsin-pga-professional-championship-4/
LOCATION:Ozaukee CC\, 10823 North River Road\, Mequon\, WI\, 53092\, United States
CATEGORIES:All Tournaments,Major Championships
GEO:43.2149827;-87.9652735
X-APPLE-STRUCTURED-LOCATION;VALUE=URI;X-ADDRESS=Ozaukee CC 10823 North River Road Mequon WI 53092 United States;X-APPLE-RADIUS=500;X-TITLE=10823 North River Road:geo:-87.9652735,43.2149827
END:VEVENT
END:VCALENDAR