BEGIN:VCALENDAR
VERSION:2.0
PRODID:-//Wisconsin PGA - ECPv6.15.20//NONSGML v1.0//EN
CALSCALE:GREGORIAN
METHOD:PUBLISH
X-ORIGINAL-URL:https://wisconsin.pga.com
X-WR-CALDESC:Events for Wisconsin PGA
REFRESH-INTERVAL;VALUE=DURATION:PT1H
X-Robots-Tag:noindex
X-PUBLISHED-TTL:PT1H
BEGIN:VTIMEZONE
TZID:America/Chicago
BEGIN:DAYLIGHT
TZOFFSETFROM:-0600
TZOFFSETTO:-0500
TZNAME:CDT
DTSTART:20240310T080000
END:DAYLIGHT
BEGIN:STANDARD
TZOFFSETFROM:-0500
TZOFFSETTO:-0600
TZNAME:CST
DTSTART:20241103T070000
END:STANDARD
BEGIN:DAYLIGHT
TZOFFSETFROM:-0600
TZOFFSETTO:-0500
TZNAME:CDT
DTSTART:20250309T080000
END:DAYLIGHT
BEGIN:STANDARD
TZOFFSETFROM:-0500
TZOFFSETTO:-0600
TZNAME:CST
DTSTART:20251102T070000
END:STANDARD
BEGIN:DAYLIGHT
TZOFFSETFROM:-0600
TZOFFSETTO:-0500
TZNAME:CDT
DTSTART:20260308T080000
END:DAYLIGHT
BEGIN:STANDARD
TZOFFSETFROM:-0500
TZOFFSETTO:-0600
TZNAME:CST
DTSTART:20261101T070000
END:STANDARD
END:VTIMEZONE
BEGIN:VEVENT
DTSTART;VALUE=DATE:20250818
DTEND;VALUE=DATE:20250821
DTSTAMP:20260422T193118
CREATED:20250322T015528Z
LAST-MODIFIED:20250322T015528Z
UID:10000546-1755475200-1755734399@wisconsin.pga.com
SUMMARY:105th Suter Ward Group at Morgan Stanley Wisconsin State Open
DESCRIPTION:
URL:https://wisconsin.pga.com/event/105th-suter-ward-group-at-morgan-stanley-wisconsin-state-open/
LOCATION:Blackwolf Run – Meadow Valleys & River Courses\, 1111 W Riverside Drive\, Kohler\, 53044\, United States
CATEGORIES:All Tournaments,Major Championships
GEO:43.730068;-87.775817
X-APPLE-STRUCTURED-LOCATION;VALUE=URI;X-ADDRESS=Blackwolf Run – Meadow Valleys & River Courses 1111 W Riverside Drive Kohler 53044 United States;X-APPLE-RADIUS=500;X-TITLE=1111 W Riverside Drive:geo:-87.775817,43.730068
END:VEVENT
END:VCALENDAR