BEGIN:VCALENDAR
VERSION:2.0
PRODID:-//Wisconsin PGA - ECPv6.15.20//NONSGML v1.0//EN
CALSCALE:GREGORIAN
METHOD:PUBLISH
X-WR-CALNAME:Wisconsin PGA
X-ORIGINAL-URL:https://wisconsin.pga.com
X-WR-CALDESC:Events for Wisconsin PGA
REFRESH-INTERVAL;VALUE=DURATION:PT1H
X-Robots-Tag:noindex
X-PUBLISHED-TTL:PT1H
BEGIN:VTIMEZONE
TZID:America/Chicago
BEGIN:DAYLIGHT
TZOFFSETFROM:-0600
TZOFFSETTO:-0500
TZNAME:CDT
DTSTART:20240310T080000
END:DAYLIGHT
BEGIN:STANDARD
TZOFFSETFROM:-0500
TZOFFSETTO:-0600
TZNAME:CST
DTSTART:20241103T070000
END:STANDARD
BEGIN:DAYLIGHT
TZOFFSETFROM:-0600
TZOFFSETTO:-0500
TZNAME:CDT
DTSTART:20250309T080000
END:DAYLIGHT
BEGIN:STANDARD
TZOFFSETFROM:-0500
TZOFFSETTO:-0600
TZNAME:CST
DTSTART:20251102T070000
END:STANDARD
BEGIN:DAYLIGHT
TZOFFSETFROM:-0600
TZOFFSETTO:-0500
TZNAME:CDT
DTSTART:20260308T080000
END:DAYLIGHT
BEGIN:STANDARD
TZOFFSETFROM:-0500
TZOFFSETTO:-0600
TZNAME:CST
DTSTART:20261101T070000
END:STANDARD
END:VTIMEZONE
BEGIN:VEVENT
DTSTART;VALUE=DATE:20250609
DTEND;VALUE=DATE:20250612
DTSTAMP:20260424T094633
CREATED:20250322T012427Z
LAST-MODIFIED:20250322T012427Z
UID:10000487-1749427200-1749686399@wisconsin.pga.com
SUMMARY:Sentry Wisconsin State Women's Open
DESCRIPTION:
URL:https://wisconsin.pga.com/event/sentry-wisconsin-state-womens-open-2/
LOCATION:La Crosse CC\, 300 Marcou Road\, Onalaska\, WI\, 54650\, United States
CATEGORIES:All Tournaments,Major Championships
GEO:43.8842056;-91.1765505
X-APPLE-STRUCTURED-LOCATION;VALUE=URI;X-ADDRESS=La Crosse CC 300 Marcou Road Onalaska WI 54650 United States;X-APPLE-RADIUS=500;X-TITLE=300 Marcou Road:geo:-91.1765505,43.8842056
END:VEVENT
END:VCALENDAR