BEGIN:VCALENDAR
VERSION:2.0
PRODID:-//Wisconsin PGA - ECPv6.15.20//NONSGML v1.0//EN
CALSCALE:GREGORIAN
METHOD:PUBLISH
X-ORIGINAL-URL:https://wisconsin.pga.com
X-WR-CALDESC:Events for Wisconsin PGA
REFRESH-INTERVAL;VALUE=DURATION:PT1H
X-Robots-Tag:noindex
X-PUBLISHED-TTL:PT1H
BEGIN:VTIMEZONE
TZID:America/Chicago
BEGIN:DAYLIGHT
TZOFFSETFROM:-0600
TZOFFSETTO:-0500
TZNAME:CDT
DTSTART:20240310T080000
END:DAYLIGHT
BEGIN:STANDARD
TZOFFSETFROM:-0500
TZOFFSETTO:-0600
TZNAME:CST
DTSTART:20241103T070000
END:STANDARD
BEGIN:DAYLIGHT
TZOFFSETFROM:-0600
TZOFFSETTO:-0500
TZNAME:CDT
DTSTART:20250309T080000
END:DAYLIGHT
BEGIN:STANDARD
TZOFFSETFROM:-0500
TZOFFSETTO:-0600
TZNAME:CST
DTSTART:20251102T070000
END:STANDARD
BEGIN:DAYLIGHT
TZOFFSETFROM:-0600
TZOFFSETTO:-0500
TZNAME:CDT
DTSTART:20260308T080000
END:DAYLIGHT
BEGIN:STANDARD
TZOFFSETFROM:-0500
TZOFFSETTO:-0600
TZNAME:CST
DTSTART:20261101T070000
END:STANDARD
END:VTIMEZONE
BEGIN:VEVENT
DTSTART;VALUE=DATE:20250902
DTEND;VALUE=DATE:20250903
DTSTAMP:20260419T174258
CREATED:20250322T040527Z
LAST-MODIFIED:20250322T040527Z
UID:10000579-1756771200-1756857599@wisconsin.pga.com
SUMMARY:P.A.T. #4
DESCRIPTION:
URL:https://wisconsin.pga.com/event/p-a-t-4-2/
LOCATION:Western Lakes GC\, W287 N1963 Oakton Road\, Pewaukee\, WI\, 53072\, United States
CATEGORIES:All Tournaments,P.A.T.
GEO:43.0544436;-88.3166014
X-APPLE-STRUCTURED-LOCATION;VALUE=URI;X-ADDRESS=Western Lakes GC W287 N1963 Oakton Road Pewaukee WI 53072 United States;X-APPLE-RADIUS=500;X-TITLE=W287 N1963 Oakton Road:geo:-88.3166014,43.0544436
END:VEVENT
BEGIN:VEVENT
DTSTART;VALUE=DATE:20250902
DTEND;VALUE=DATE:20250904
DTSTAMP:20260419T174258
CREATED:20250322T034810Z
LAST-MODIFIED:20250322T034810Z
UID:10000550-1756771200-1756943999@wisconsin.pga.com
SUMMARY:Wisconsin State Senior Open
DESCRIPTION:
URL:https://wisconsin.pga.com/event/wisconsin-state-senior-open-4/
LOCATION:Geneva National GC – Player Course\, 1221 Geneva National Avenue South\, Lake Geneva\, WI\, 53147\, United States
CATEGORIES:All Tournaments,Major Championships
GEO:42.6004256;-88.5170204
X-APPLE-STRUCTURED-LOCATION;VALUE=URI;X-ADDRESS=Geneva National GC – Player Course 1221 Geneva National Avenue South Lake Geneva WI 53147 United States;X-APPLE-RADIUS=500;X-TITLE=1221 Geneva National Avenue South:geo:-88.5170204,42.6004256
END:VEVENT
BEGIN:VEVENT
DTSTART;VALUE=DATE:20250908
DTEND;VALUE=DATE:20250909
DTSTAMP:20260419T174258
CREATED:20250322T035033Z
LAST-MODIFIED:20250322T035033Z
UID:10000556-1757289600-1757375999@wisconsin.pga.com
SUMMARY:Cheese Pro-Am
DESCRIPTION:
URL:https://wisconsin.pga.com/event/cheese-pro-am/
LOCATION:Monroe GC\, 2205 21st Street\, Monroe\, WI\, 53566\, United States
CATEGORIES:All Tournaments,Pro-Ams
GEO:42.5887949;-89.6276485
X-APPLE-STRUCTURED-LOCATION;VALUE=URI;X-ADDRESS=Monroe GC 2205 21st Street Monroe WI 53566 United States;X-APPLE-RADIUS=500;X-TITLE=2205 21st Street:geo:-89.6276485,42.5887949
END:VEVENT
BEGIN:VEVENT
DTSTART;VALUE=DATE:20250915
DTEND;VALUE=DATE:20250916
DTSTAMP:20260419T174258
CREATED:20250322T040608Z
LAST-MODIFIED:20250322T040608Z
UID:10000580-1757894400-1757980799@wisconsin.pga.com
SUMMARY:P.A.T. #5
DESCRIPTION:
URL:https://wisconsin.pga.com/event/p-a-t-5-2/
LOCATION:Dretzka Park GC\, 12020 W Bradley Road\, Milwaukee\, WI\, 53224\, United States
CATEGORIES:All Tournaments,P.A.T.
GEO:43.1682804;-88.0564808
X-APPLE-STRUCTURED-LOCATION;VALUE=URI;X-ADDRESS=Dretzka Park GC 12020 W Bradley Road Milwaukee WI 53224 United States;X-APPLE-RADIUS=500;X-TITLE=12020 W Bradley Road:geo:-88.0564808,43.1682804
END:VEVENT
BEGIN:VEVENT
DTSTART;VALUE=DATE:20250915
DTEND;VALUE=DATE:20250917
DTSTAMP:20260419T174258
CREATED:20250322T034055Z
LAST-MODIFIED:20250322T034055Z
UID:10000552-1757894400-1758067199@wisconsin.pga.com
SUMMARY:Wisconsin PGA Professional Championship
DESCRIPTION:
URL:https://wisconsin.pga.com/event/wisconsin-pga-professional-championship-4/
LOCATION:Ozaukee CC\, 10823 North River Road\, Mequon\, WI\, 53092\, United States
CATEGORIES:All Tournaments,Major Championships
GEO:43.2149827;-87.9652735
X-APPLE-STRUCTURED-LOCATION;VALUE=URI;X-ADDRESS=Ozaukee CC 10823 North River Road Mequon WI 53092 United States;X-APPLE-RADIUS=500;X-TITLE=10823 North River Road:geo:-87.9652735,43.2149827
END:VEVENT
BEGIN:VEVENT
DTSTART;VALUE=DATE:20250922
DTEND;VALUE=DATE:20250923
DTSTAMP:20260419T174258
CREATED:20250322T035237Z
LAST-MODIFIED:20250406T013107Z
UID:10000559-1758499200-1758585599@wisconsin.pga.com
SUMMARY:Reyes Retail Pro-Assistant
DESCRIPTION:
URL:https://wisconsin.pga.com/event/pro-assistant-2/
LOCATION:Tuckaway CC\, 6901 West Drexel Avenue\, Franklin\, WI\, 53132\, United States
CATEGORIES:All Tournaments,Pro-Pros
GEO:42.898541;-88.003274
X-APPLE-STRUCTURED-LOCATION;VALUE=URI;X-ADDRESS=Tuckaway CC 6901 West Drexel Avenue Franklin WI 53132 United States;X-APPLE-RADIUS=500;X-TITLE=6901 West Drexel Avenue:geo:-88.003274,42.898541
END:VEVENT
BEGIN:VEVENT
DTSTART;VALUE=DATE:20250929
DTEND;VALUE=DATE:20250930
DTSTAMP:20260419T174258
CREATED:20250322T035331Z
LAST-MODIFIED:20250322T035331Z
UID:10000561-1759104000-1759190399@wisconsin.pga.com
SUMMARY:The Oliphant Golf Management Pro-Am Championship
DESCRIPTION:
URL:https://wisconsin.pga.com/event/the-oliphant-golf-management-pro-am-championship-6/
LOCATION:Lawsonia – Links Course\, W2615 Valley View Drive\, Green Lake\, WI\, 54941\, United States
CATEGORIES:All Tournaments,Pro-Ams
GEO:43.8298051;-89.0122158
X-APPLE-STRUCTURED-LOCATION;VALUE=URI;X-ADDRESS=Lawsonia – Links Course W2615 Valley View Drive Green Lake WI 54941 United States;X-APPLE-RADIUS=500;X-TITLE=W2615 Valley View Drive:geo:-89.0122158,43.8298051
END:VEVENT
END:VCALENDAR