BEGIN:VCALENDAR
VERSION:2.0
PRODID:-//Wisconsin PGA - ECPv6.15.20//NONSGML v1.0//EN
CALSCALE:GREGORIAN
METHOD:PUBLISH
X-WR-CALNAME:Wisconsin PGA
X-ORIGINAL-URL:https://wisconsin.pga.com
X-WR-CALDESC:Events for Wisconsin PGA
REFRESH-INTERVAL;VALUE=DURATION:PT1H
X-Robots-Tag:noindex
X-PUBLISHED-TTL:PT1H
BEGIN:VTIMEZONE
TZID:America/Chicago
BEGIN:DAYLIGHT
TZOFFSETFROM:-0600
TZOFFSETTO:-0500
TZNAME:CDT
DTSTART:20240310T080000
END:DAYLIGHT
BEGIN:STANDARD
TZOFFSETFROM:-0500
TZOFFSETTO:-0600
TZNAME:CST
DTSTART:20241103T070000
END:STANDARD
BEGIN:DAYLIGHT
TZOFFSETFROM:-0600
TZOFFSETTO:-0500
TZNAME:CDT
DTSTART:20250309T080000
END:DAYLIGHT
BEGIN:STANDARD
TZOFFSETFROM:-0500
TZOFFSETTO:-0600
TZNAME:CST
DTSTART:20251102T070000
END:STANDARD
BEGIN:DAYLIGHT
TZOFFSETFROM:-0600
TZOFFSETTO:-0500
TZNAME:CDT
DTSTART:20260308T080000
END:DAYLIGHT
BEGIN:STANDARD
TZOFFSETFROM:-0500
TZOFFSETTO:-0600
TZNAME:CST
DTSTART:20261101T070000
END:STANDARD
END:VTIMEZONE
BEGIN:VEVENT
DTSTART;VALUE=DATE:20250609
DTEND;VALUE=DATE:20250610
DTSTAMP:20260423T042430
CREATED:20250322T012015Z
LAST-MODIFIED:20250322T012015Z
UID:10000486-1749427200-1749513599@wisconsin.pga.com
SUMMARY:Hornung's Classic
DESCRIPTION:
URL:https://wisconsin.pga.com/event/hornungs-classic-7/
LOCATION:South Hills G&CC\, 1175 Fond du Lac Avenue\, Fond du Lac\, WI\, 54935\, United States
CATEGORIES:All Tournaments,One Day Classics
GEO:43.754867;-88.410427
X-APPLE-STRUCTURED-LOCATION;VALUE=URI;X-ADDRESS=South Hills G&CC 1175 Fond du Lac Avenue Fond du Lac WI 54935 United States;X-APPLE-RADIUS=500;X-TITLE=1175 Fond du Lac Avenue:geo:-88.410427,43.754867
END:VEVENT
BEGIN:VEVENT
DTSTART;VALUE=DATE:20250609
DTEND;VALUE=DATE:20250612
DTSTAMP:20260423T042430
CREATED:20250322T012427Z
LAST-MODIFIED:20250322T012427Z
UID:10000487-1749427200-1749686399@wisconsin.pga.com
SUMMARY:Sentry Wisconsin State Women's Open
DESCRIPTION:
URL:https://wisconsin.pga.com/event/sentry-wisconsin-state-womens-open-2/
LOCATION:La Crosse CC\, 300 Marcou Road\, Onalaska\, WI\, 54650\, United States
CATEGORIES:All Tournaments,Major Championships
GEO:43.8842056;-91.1765505
X-APPLE-STRUCTURED-LOCATION;VALUE=URI;X-ADDRESS=La Crosse CC 300 Marcou Road Onalaska WI 54650 United States;X-APPLE-RADIUS=500;X-TITLE=300 Marcou Road:geo:-91.1765505,43.8842056
END:VEVENT
BEGIN:VEVENT
DTSTART;VALUE=DATE:20250611
DTEND;VALUE=DATE:20250612
DTSTAMP:20260423T042430
CREATED:20250322T012700Z
LAST-MODIFIED:20250322T012700Z
UID:10000492-1749600000-1749686399@wisconsin.pga.com
SUMMARY:Meriter Pro-Am Golf Classic
DESCRIPTION:
URL:https://wisconsin.pga.com/event/meriter-pro-am-golf-classic-2/
LOCATION:University Ridge GC\, 9002 County Road PD\, Madison\, WI\, 53593\, United States
CATEGORIES:All Tournaments,Charity Pro-Ams
GEO:43.0234689;-89.5432654
X-APPLE-STRUCTURED-LOCATION;VALUE=URI;X-ADDRESS=University Ridge GC 9002 County Road PD Madison WI 53593 United States;X-APPLE-RADIUS=500;X-TITLE=9002 County Road PD:geo:-89.5432654,43.0234689
END:VEVENT
BEGIN:VEVENT
DTSTART;VALUE=DATE:20250616
DTEND;VALUE=DATE:20250617
DTSTAMP:20260423T042430
CREATED:20250322T012547Z
LAST-MODIFIED:20250322T012547Z
UID:10000489-1750032000-1750118399@wisconsin.pga.com
SUMMARY:The Suter Ward Group at Morgan Stanley Pro-Am
DESCRIPTION:
URL:https://wisconsin.pga.com/event/the-suter-ward-group-at-morgan-stanley-pro-am-4/
LOCATION:Blackhawk CC\, 3606 Blackhawk Drive\, Madison\, WI\, 53705\, United States
CATEGORIES:All Tournaments,Pro-Ams
GEO:43.0793191;-89.4546313
X-APPLE-STRUCTURED-LOCATION;VALUE=URI;X-ADDRESS=Blackhawk CC 3606 Blackhawk Drive Madison WI 53705 United States;X-APPLE-RADIUS=500;X-TITLE=3606 Blackhawk Drive:geo:-89.4546313,43.0793191
END:VEVENT
BEGIN:VEVENT
DTSTART;VALUE=DATE:20250623
DTEND;VALUE=DATE:20250624
DTSTAMP:20260423T042430
CREATED:20250322T012807Z
LAST-MODIFIED:20250322T012807Z
UID:10000495-1750636800-1750723199@wisconsin.pga.com
SUMMARY:WPGA Classic #3
DESCRIPTION:
URL:https://wisconsin.pga.com/event/wpga-classic-3-4/
LOCATION:Janesville CC\, 2615 West Memorial Drive\, Janesville\, WI\, 53548\, United States
CATEGORIES:All Tournaments,One Day Classics
GEO:42.6951912;-89.057347
X-APPLE-STRUCTURED-LOCATION;VALUE=URI;X-ADDRESS=Janesville CC 2615 West Memorial Drive Janesville WI 53548 United States;X-APPLE-RADIUS=500;X-TITLE=2615 West Memorial Drive:geo:-89.057347,42.6951912
END:VEVENT
BEGIN:VEVENT
DTSTART;VALUE=DATE:20250623
DTEND;VALUE=DATE:20250624
DTSTAMP:20260423T042430
CREATED:20250322T040325Z
LAST-MODIFIED:20250322T040325Z
UID:10000573-1750636800-1750723199@wisconsin.pga.com
SUMMARY:P.A.T. #2
DESCRIPTION:
URL:https://wisconsin.pga.com/event/p-a-t-2-4/
LOCATION:Quit-Qui-OC GC\, 500 Quit Qui Oc Lane\, Elkhart Lake\, WI\, 53020\, United States
CATEGORIES:All Tournaments,P.A.T.
GEO:43.8251686;-88.0119432
X-APPLE-STRUCTURED-LOCATION;VALUE=URI;X-ADDRESS=Quit-Qui-OC GC 500 Quit Qui Oc Lane Elkhart Lake WI 53020 United States;X-APPLE-RADIUS=500;X-TITLE=500 Quit Qui Oc Lane:geo:-88.0119432,43.8251686
END:VEVENT
END:VCALENDAR