BEGIN:VCALENDAR
VERSION:2.0
PRODID:-//Wisconsin PGA - ECPv6.15.20//NONSGML v1.0//EN
CALSCALE:GREGORIAN
METHOD:PUBLISH
X-ORIGINAL-URL:https://wisconsin.pga.com
X-WR-CALDESC:Events for Wisconsin PGA
REFRESH-INTERVAL;VALUE=DURATION:PT1H
X-Robots-Tag:noindex
X-PUBLISHED-TTL:PT1H
BEGIN:VTIMEZONE
TZID:America/Chicago
BEGIN:DAYLIGHT
TZOFFSETFROM:-0600
TZOFFSETTO:-0500
TZNAME:CDT
DTSTART:20250309T080000
END:DAYLIGHT
BEGIN:STANDARD
TZOFFSETFROM:-0500
TZOFFSETTO:-0600
TZNAME:CST
DTSTART:20251102T070000
END:STANDARD
BEGIN:DAYLIGHT
TZOFFSETFROM:-0600
TZOFFSETTO:-0500
TZNAME:CDT
DTSTART:20260308T080000
END:DAYLIGHT
BEGIN:STANDARD
TZOFFSETFROM:-0500
TZOFFSETTO:-0600
TZNAME:CST
DTSTART:20261101T070000
END:STANDARD
BEGIN:DAYLIGHT
TZOFFSETFROM:-0600
TZOFFSETTO:-0500
TZNAME:CDT
DTSTART:20270314T080000
END:DAYLIGHT
BEGIN:STANDARD
TZOFFSETFROM:-0500
TZOFFSETTO:-0600
TZNAME:CST
DTSTART:20271107T070000
END:STANDARD
END:VTIMEZONE
BEGIN:VEVENT
DTSTART;TZID=America/Chicago:20260127T124500
DTEND;TZID=America/Chicago:20260127T134500
DTSTAMP:20260422T083253
CREATED:20260106T142936Z
LAST-MODIFIED:20260106T143851Z
UID:10000621-1769517900-1769521500@wisconsin.pga.com
SUMMARY:Winter Education Virtual Series #3 - Personal Finance & Expert Voice
DESCRIPTION:Personal Finance & Expert Voice – Featuring Brandon Cintron\, Morgan Stanley and Candace Janton\, Expert Voice \nRegistration information can be found by clicking on the WPGA Professional Login page in the upper right of the WPGA website. Enter your PGA.org credentials when prompted. \n 
URL:https://wisconsin.pga.com/event/winter-education-virtual-series-3-cintron-janton/
LOCATION:WI
CATEGORIES:Seminars
END:VEVENT
END:VCALENDAR