BEGIN:VCALENDAR
VERSION:2.0
PRODID:-//Wisconsin PGA - ECPv6.15.20//NONSGML v1.0//EN
CALSCALE:GREGORIAN
METHOD:PUBLISH
X-ORIGINAL-URL:https://wisconsin.pga.com
X-WR-CALDESC:Events for Wisconsin PGA
REFRESH-INTERVAL;VALUE=DURATION:PT1H
X-Robots-Tag:noindex
X-PUBLISHED-TTL:PT1H
BEGIN:VTIMEZONE
TZID:America/Chicago
BEGIN:DAYLIGHT
TZOFFSETFROM:-0600
TZOFFSETTO:-0500
TZNAME:CDT
DTSTART:20240310T080000
END:DAYLIGHT
BEGIN:STANDARD
TZOFFSETFROM:-0500
TZOFFSETTO:-0600
TZNAME:CST
DTSTART:20241103T070000
END:STANDARD
BEGIN:DAYLIGHT
TZOFFSETFROM:-0600
TZOFFSETTO:-0500
TZNAME:CDT
DTSTART:20250309T080000
END:DAYLIGHT
BEGIN:STANDARD
TZOFFSETFROM:-0500
TZOFFSETTO:-0600
TZNAME:CST
DTSTART:20251102T070000
END:STANDARD
BEGIN:DAYLIGHT
TZOFFSETFROM:-0600
TZOFFSETTO:-0500
TZNAME:CDT
DTSTART:20260308T080000
END:DAYLIGHT
BEGIN:STANDARD
TZOFFSETFROM:-0500
TZOFFSETTO:-0600
TZNAME:CST
DTSTART:20261101T070000
END:STANDARD
END:VTIMEZONE
BEGIN:VEVENT
DTSTART;TZID=America/Chicago:20250214T090000
DTEND;TZID=America/Chicago:20250214T110000
DTSTAMP:20260422T013927
CREATED:20241220T170913Z
LAST-MODIFIED:20241220T171911Z
UID:10000444-1739523600-1739530800@wisconsin.pga.com
SUMMARY:Winter Teaching & Coaching Series #1
DESCRIPTION:9:00am – 11:00am  \nfeaturing Golf Digest’s Best Young Teachers \n\nMolly Braid\, PGA: Putting 101 – Tips for Every Type of Member\nBobby Peterson\, PGA: Putting 101 – Simplifying the “Stroke” with Tips and Drills\nJacob Babcock\, PGA: Full Swing Problem solving with data points: Turns & Sways\nTim Boegh\, PGA: Full Swing Problem Solving with data points: Bends and Tilts
URL:https://wisconsin.pga.com/event/winter-teaching-coaching-series-1/
LOCATION:GOLFTEC Madison\, 607 Junction Road\, Madison\, Wisconsin\, 53717
CATEGORIES:Seminars
END:VEVENT
END:VCALENDAR