BEGIN:VCALENDAR
VERSION:2.0
PRODID:-//Wisconsin PGA - ECPv6.15.20//NONSGML v1.0//EN
CALSCALE:GREGORIAN
METHOD:PUBLISH
X-ORIGINAL-URL:https://wisconsin.pga.com
X-WR-CALDESC:Events for Wisconsin PGA
REFRESH-INTERVAL;VALUE=DURATION:PT1H
X-Robots-Tag:noindex
X-PUBLISHED-TTL:PT1H
BEGIN:VTIMEZONE
TZID:America/Chicago
BEGIN:DAYLIGHT
TZOFFSETFROM:-0600
TZOFFSETTO:-0500
TZNAME:CDT
DTSTART:20190310T080000
END:DAYLIGHT
BEGIN:STANDARD
TZOFFSETFROM:-0500
TZOFFSETTO:-0600
TZNAME:CST
DTSTART:20191103T070000
END:STANDARD
BEGIN:DAYLIGHT
TZOFFSETFROM:-0600
TZOFFSETTO:-0500
TZNAME:CDT
DTSTART:20200308T080000
END:DAYLIGHT
BEGIN:STANDARD
TZOFFSETFROM:-0500
TZOFFSETTO:-0600
TZNAME:CST
DTSTART:20201101T070000
END:STANDARD
BEGIN:DAYLIGHT
TZOFFSETFROM:-0600
TZOFFSETTO:-0500
TZNAME:CDT
DTSTART:20210314T080000
END:DAYLIGHT
BEGIN:STANDARD
TZOFFSETFROM:-0500
TZOFFSETTO:-0600
TZNAME:CST
DTSTART:20211107T070000
END:STANDARD
BEGIN:DAYLIGHT
TZOFFSETFROM:-0600
TZOFFSETTO:-0500
TZNAME:CDT
DTSTART:20220313T080000
END:DAYLIGHT
BEGIN:STANDARD
TZOFFSETFROM:-0500
TZOFFSETTO:-0600
TZNAME:CST
DTSTART:20221106T070000
END:STANDARD
BEGIN:DAYLIGHT
TZOFFSETFROM:-0600
TZOFFSETTO:-0500
TZNAME:CDT
DTSTART:20230312T080000
END:DAYLIGHT
BEGIN:STANDARD
TZOFFSETFROM:-0500
TZOFFSETTO:-0600
TZNAME:CST
DTSTART:20231105T070000
END:STANDARD
BEGIN:DAYLIGHT
TZOFFSETFROM:-0600
TZOFFSETTO:-0500
TZNAME:CDT
DTSTART:20240310T080000
END:DAYLIGHT
BEGIN:STANDARD
TZOFFSETFROM:-0500
TZOFFSETTO:-0600
TZNAME:CST
DTSTART:20241103T070000
END:STANDARD
BEGIN:DAYLIGHT
TZOFFSETFROM:-0600
TZOFFSETTO:-0500
TZNAME:CDT
DTSTART:20250309T080000
END:DAYLIGHT
BEGIN:STANDARD
TZOFFSETFROM:-0500
TZOFFSETTO:-0600
TZNAME:CST
DTSTART:20251102T070000
END:STANDARD
BEGIN:DAYLIGHT
TZOFFSETFROM:-0600
TZOFFSETTO:-0500
TZNAME:CDT
DTSTART:20260308T080000
END:DAYLIGHT
BEGIN:STANDARD
TZOFFSETFROM:-0500
TZOFFSETTO:-0600
TZNAME:CST
DTSTART:20261101T070000
END:STANDARD
END:VTIMEZONE
BEGIN:VEVENT
DTSTART;VALUE=DATE:20250915
DTEND;VALUE=DATE:20250916
DTSTAMP:20260419T170456
CREATED:20250322T040608Z
LAST-MODIFIED:20250322T040608Z
UID:10000580-1757894400-1757980799@wisconsin.pga.com
SUMMARY:P.A.T. #5
DESCRIPTION:
URL:https://wisconsin.pga.com/event/p-a-t-5-2/
LOCATION:Dretzka Park GC\, 12020 W Bradley Road\, Milwaukee\, WI\, 53224\, United States
CATEGORIES:All Tournaments,P.A.T.
GEO:43.1682804;-88.0564808
X-APPLE-STRUCTURED-LOCATION;VALUE=URI;X-ADDRESS=Dretzka Park GC 12020 W Bradley Road Milwaukee WI 53224 United States;X-APPLE-RADIUS=500;X-TITLE=12020 W Bradley Road:geo:-88.0564808,43.1682804
END:VEVENT
BEGIN:VEVENT
DTSTART;VALUE=DATE:20250902
DTEND;VALUE=DATE:20250903
DTSTAMP:20260419T170456
CREATED:20250322T040527Z
LAST-MODIFIED:20250322T040527Z
UID:10000579-1756771200-1756857599@wisconsin.pga.com
SUMMARY:P.A.T. #4
DESCRIPTION:
URL:https://wisconsin.pga.com/event/p-a-t-4-2/
LOCATION:Western Lakes GC\, W287 N1963 Oakton Road\, Pewaukee\, WI\, 53072\, United States
CATEGORIES:All Tournaments,P.A.T.
GEO:43.0544436;-88.3166014
X-APPLE-STRUCTURED-LOCATION;VALUE=URI;X-ADDRESS=Western Lakes GC W287 N1963 Oakton Road Pewaukee WI 53072 United States;X-APPLE-RADIUS=500;X-TITLE=W287 N1963 Oakton Road:geo:-88.3166014,43.0544436
END:VEVENT
BEGIN:VEVENT
DTSTART;VALUE=DATE:20250805
DTEND;VALUE=DATE:20250806
DTSTAMP:20260419T170456
CREATED:20250322T040425Z
LAST-MODIFIED:20250322T040425Z
UID:10000576-1754352000-1754438399@wisconsin.pga.com
SUMMARY:P.A.T. #3
DESCRIPTION:
URL:https://wisconsin.pga.com/event/p-a-t-3-4/
LOCATION:Reedsburg CC\, 3003 East Main Street\, Reedsburg\, WI\, 53959\, United States
CATEGORIES:All Tournaments,P.A.T.
GEO:43.5332714;-89.9626069
X-APPLE-STRUCTURED-LOCATION;VALUE=URI;X-ADDRESS=Reedsburg CC 3003 East Main Street Reedsburg WI 53959 United States;X-APPLE-RADIUS=500;X-TITLE=3003 East Main Street:geo:-89.9626069,43.5332714
END:VEVENT
BEGIN:VEVENT
DTSTART;VALUE=DATE:20250623
DTEND;VALUE=DATE:20250624
DTSTAMP:20260419T170456
CREATED:20250322T040325Z
LAST-MODIFIED:20250322T040325Z
UID:10000573-1750636800-1750723199@wisconsin.pga.com
SUMMARY:P.A.T. #2
DESCRIPTION:
URL:https://wisconsin.pga.com/event/p-a-t-2-4/
LOCATION:Quit-Qui-OC GC\, 500 Quit Qui Oc Lane\, Elkhart Lake\, WI\, 53020\, United States
CATEGORIES:All Tournaments,P.A.T.
GEO:43.8251686;-88.0119432
X-APPLE-STRUCTURED-LOCATION;VALUE=URI;X-ADDRESS=Quit-Qui-OC GC 500 Quit Qui Oc Lane Elkhart Lake WI 53020 United States;X-APPLE-RADIUS=500;X-TITLE=500 Quit Qui Oc Lane:geo:-88.0119432,43.8251686
END:VEVENT
BEGIN:VEVENT
DTSTART;VALUE=DATE:20250505
DTEND;VALUE=DATE:20250506
DTSTAMP:20260419T170456
CREATED:20250322T040211Z
LAST-MODIFIED:20250322T040211Z
UID:10000571-1746403200-1746489599@wisconsin.pga.com
SUMMARY:P.A.T. #1
DESCRIPTION:
URL:https://wisconsin.pga.com/event/p-a-t-1-2/
LOCATION:Door Creek GC\, 4321 Vilas Road\, Cottage Grove\, WI\, 53527\, United States
CATEGORIES:All Tournaments,P.A.T.
GEO:43.0827433;-89.230957
X-APPLE-STRUCTURED-LOCATION;VALUE=URI;X-ADDRESS=Door Creek GC 4321 Vilas Road Cottage Grove WI 53527 United States;X-APPLE-RADIUS=500;X-TITLE=4321 Vilas Road:geo:-89.230957,43.0827433
END:VEVENT
BEGIN:VEVENT
DTSTART;VALUE=DATE:20240903
DTEND;VALUE=DATE:20240904
DTSTAMP:20260419T170456
CREATED:20240322T175133Z
LAST-MODIFIED:20240322T175415Z
UID:10000188-1725321600-1725407999@wisconsin.pga.com
SUMMARY:P.A.T. #5
DESCRIPTION:
URL:https://wisconsin.pga.com/event/p-a-t-5/
LOCATION:Oakwood Park GC\, 3600 West Oakwood Road\, Franklin\, WI\, 53132\, United States
CATEGORIES:All Tournaments,P.A.T.
GEO:42.8581929;-87.9645436
X-APPLE-STRUCTURED-LOCATION;VALUE=URI;X-ADDRESS=Oakwood Park GC 3600 West Oakwood Road Franklin WI 53132 United States;X-APPLE-RADIUS=500;X-TITLE=3600 West Oakwood Road:geo:-87.9645436,42.8581929
END:VEVENT
BEGIN:VEVENT
DTSTART;VALUE=DATE:20240805
DTEND;VALUE=DATE:20240806
DTSTAMP:20260419T170456
CREATED:20240322T174746Z
LAST-MODIFIED:20240322T174746Z
UID:10000186-1722816000-1722902399@wisconsin.pga.com
SUMMARY:P.A.T. #4
DESCRIPTION:
URL:https://wisconsin.pga.com/event/p-a-t-4/
LOCATION:Reedsburg CC\, 3003 East Main Street\, Reedsburg\, WI\, 53959\, United States
CATEGORIES:All Tournaments,P.A.T.
GEO:43.5332714;-89.9626069
X-APPLE-STRUCTURED-LOCATION;VALUE=URI;X-ADDRESS=Reedsburg CC 3003 East Main Street Reedsburg WI 53959 United States;X-APPLE-RADIUS=500;X-TITLE=3003 East Main Street:geo:-89.9626069,43.5332714
END:VEVENT
BEGIN:VEVENT
DTSTART;VALUE=DATE:20240710
DTEND;VALUE=DATE:20240711
DTSTAMP:20260419T170456
CREATED:20240322T174639Z
LAST-MODIFIED:20240322T174639Z
UID:10000184-1720569600-1720655999@wisconsin.pga.com
SUMMARY:P.A.T. #3
DESCRIPTION:
URL:https://wisconsin.pga.com/event/p-a-t-3-2/
LOCATION:Royal Scot GC\, 4831 Church Road\, New Franken\, 54229
CATEGORIES:All Tournaments,P.A.T.
GEO:44.5567173;-87.8339466
X-APPLE-STRUCTURED-LOCATION;VALUE=URI;X-ADDRESS=Royal Scot GC 4831 Church Road New Franken 54229;X-APPLE-RADIUS=500;X-TITLE=4831 Church Road:geo:-87.8339466,44.5567173
END:VEVENT
BEGIN:VEVENT
DTSTART;VALUE=DATE:20240617
DTEND;VALUE=DATE:20240618
DTSTAMP:20260419T170456
CREATED:20240322T174425Z
LAST-MODIFIED:20240322T174425Z
UID:10000182-1718582400-1718668799@wisconsin.pga.com
SUMMARY:P.A.T. #2
DESCRIPTION:
URL:https://wisconsin.pga.com/event/p-a-t-2-3/
LOCATION:Brighton Dale Links – White Birch\, 830 248th Avenue\, Kansasville\, WI\, 53139\, United States
CATEGORIES:All Tournaments,P.A.T.
GEO:42.6501169;-88.1104546
X-APPLE-STRUCTURED-LOCATION;VALUE=URI;X-ADDRESS=Brighton Dale Links – White Birch 830 248th Avenue Kansasville WI 53139 United States;X-APPLE-RADIUS=500;X-TITLE=830 248th Avenue:geo:-88.1104546,42.6501169
END:VEVENT
BEGIN:VEVENT
DTSTART;VALUE=DATE:20240521
DTEND;VALUE=DATE:20240522
DTSTAMP:20260419T170456
CREATED:20240322T174325Z
LAST-MODIFIED:20240322T174325Z
UID:10000180-1716249600-1716335999@wisconsin.pga.com
SUMMARY:P.A.T. #1
DESCRIPTION:
URL:https://wisconsin.pga.com/event/p-a-t-1/
LOCATION:Pleasant View GC\, 1322 Pleasant View Road\, Middleton\, WI\, 54562\, United States
CATEGORIES:All Tournaments,P.A.T.
GEO:43.0862496;-89.546601
X-APPLE-STRUCTURED-LOCATION;VALUE=URI;X-ADDRESS=Pleasant View GC 1322 Pleasant View Road Middleton WI 54562 United States;X-APPLE-RADIUS=500;X-TITLE=1322 Pleasant View Road:geo:-89.546601,43.0862496
END:VEVENT
BEGIN:VEVENT
DTSTART;VALUE=DATE:20230912
DTEND;VALUE=DATE:20230913
DTSTAMP:20260419T170456
CREATED:20230318T014252Z
LAST-MODIFIED:20230318T014252Z
UID:10000281-1694476800-1694563199@wisconsin.pga.com
SUMMARY:P.A.T. #5
DESCRIPTION:
URL:https://wisconsin.pga.com/event/pat-5-23/
LOCATION:Odana Hills GC\, 4635 Odana Road\, Madison\, WI\, 53711\, United States
CATEGORIES:All Tournaments,P.A.T.
GEO:43.048044;-89.459298
X-APPLE-STRUCTURED-LOCATION;VALUE=URI;X-ADDRESS=Odana Hills GC 4635 Odana Road Madison WI 53711 United States;X-APPLE-RADIUS=500;X-TITLE=4635 Odana Road:geo:-89.459298,43.048044
END:VEVENT
BEGIN:VEVENT
DTSTART;VALUE=DATE:20230905
DTEND;VALUE=DATE:20230906
DTSTAMP:20260419T170456
CREATED:20230318T014114Z
LAST-MODIFIED:20230318T014114Z
UID:10000280-1693872000-1693958399@wisconsin.pga.com
SUMMARY:P.A.T. #4
DESCRIPTION:
URL:https://wisconsin.pga.com/event/pat-4-23/
LOCATION:Dretzka Park GC\, 12020 W Bradley Road\, Milwaukee\, WI\, 53224\, United States
CATEGORIES:All Tournaments,P.A.T.
GEO:43.1682804;-88.0564808
X-APPLE-STRUCTURED-LOCATION;VALUE=URI;X-ADDRESS=Dretzka Park GC 12020 W Bradley Road Milwaukee WI 53224 United States;X-APPLE-RADIUS=500;X-TITLE=12020 W Bradley Road:geo:-88.0564808,43.1682804
END:VEVENT
BEGIN:VEVENT
DTSTART;VALUE=DATE:20230808
DTEND;VALUE=DATE:20230809
DTSTAMP:20260419T170456
CREATED:20230318T013939Z
LAST-MODIFIED:20230318T013939Z
UID:10000279-1691452800-1691539199@wisconsin.pga.com
SUMMARY:P.A.T. #3
DESCRIPTION:
URL:https://wisconsin.pga.com/event/p-a-t-3-3-2-2/
LOCATION:Reedsburg CC\, 3003 East Main Street\, Reedsburg\, WI\, 53959\, United States
CATEGORIES:All Tournaments,P.A.T.
GEO:43.5332714;-89.9626069
X-APPLE-STRUCTURED-LOCATION;VALUE=URI;X-ADDRESS=Reedsburg CC 3003 East Main Street Reedsburg WI 53959 United States;X-APPLE-RADIUS=500;X-TITLE=3003 East Main Street:geo:-89.9626069,43.5332714
END:VEVENT
BEGIN:VEVENT
DTSTART;VALUE=DATE:20230707
DTEND;VALUE=DATE:20230708
DTSTAMP:20260419T170456
CREATED:20230318T013519Z
LAST-MODIFIED:20230318T013519Z
UID:10000278-1688688000-1688774399@wisconsin.pga.com
SUMMARY:P.A.T. #2
DESCRIPTION:
URL:https://wisconsin.pga.com/event/p-a-t-2-23/
LOCATION:Northbrook Golf & Grill\, 407 Northbrook Rd\, Luxemburg\, 54217
CATEGORIES:All Tournaments,P.A.T.
GEO:44.557726;-87.705436
X-APPLE-STRUCTURED-LOCATION;VALUE=URI;X-ADDRESS=Northbrook Golf & Grill 407 Northbrook Rd Luxemburg 54217;X-APPLE-RADIUS=500;X-TITLE=407 Northbrook Rd:geo:-87.705436,44.557726
END:VEVENT
BEGIN:VEVENT
DTSTART;VALUE=DATE:20230623
DTEND;VALUE=DATE:20230624
DTSTAMP:20260419T170456
CREATED:20230318T013307Z
LAST-MODIFIED:20230318T013307Z
UID:10000277-1687478400-1687564799@wisconsin.pga.com
SUMMARY:P.A.T. #1
DESCRIPTION:
URL:https://wisconsin.pga.com/event/pat-1-23/
LOCATION:Brighton Dale Links – White Birch\, 830 248th Avenue\, Kansasville\, WI\, 53139\, United States
CATEGORIES:All Tournaments,P.A.T.
GEO:42.6501169;-88.1104546
X-APPLE-STRUCTURED-LOCATION;VALUE=URI;X-ADDRESS=Brighton Dale Links – White Birch 830 248th Avenue Kansasville WI 53139 United States;X-APPLE-RADIUS=500;X-TITLE=830 248th Avenue:geo:-88.1104546,42.6501169
END:VEVENT
BEGIN:VEVENT
DTSTART;VALUE=DATE:20220919
DTEND;VALUE=DATE:20220921
DTSTAMP:20260419T170456
CREATED:20220227T025006Z
LAST-MODIFIED:20220920T122904Z
UID:10000193-1663610400-1663696799@wisconsin.pga.com
SUMMARY:P.A.T. #5
DESCRIPTION:
URL:https://wisconsin.pga.com/event/pat-5-3-2/
LOCATION:Odana Hills GC\, 4635 Odana Road\, Madison\, WI\, 53711\, United States
CATEGORIES:All Tournaments,P.A.T.
GEO:43.048044;-89.459298
X-APPLE-STRUCTURED-LOCATION;VALUE=URI;X-ADDRESS=Odana Hills GC 4635 Odana Road Madison WI 53711 United States;X-APPLE-RADIUS=500;X-TITLE=4635 Odana Road:geo:-89.459298,43.048044
END:VEVENT
BEGIN:VEVENT
DTSTART;VALUE=DATE:20220905
DTEND;VALUE=DATE:20220907
DTSTAMP:20260419T170456
CREATED:20220227T024858Z
LAST-MODIFIED:20220227T024858Z
UID:10000191-1662400800-1662487199@wisconsin.pga.com
SUMMARY:P.A.T. #4
DESCRIPTION:
URL:https://wisconsin.pga.com/event/pat-4-3-2/
LOCATION:Western Lakes GC\, W287 N1963 Oakton Road\, Pewaukee\, WI\, 53072\, United States
CATEGORIES:All Tournaments,P.A.T.
GEO:43.0544436;-88.3166014
X-APPLE-STRUCTURED-LOCATION;VALUE=URI;X-ADDRESS=Western Lakes GC W287 N1963 Oakton Road Pewaukee WI 53072 United States;X-APPLE-RADIUS=500;X-TITLE=W287 N1963 Oakton Road:geo:-88.3166014,43.0544436
END:VEVENT
BEGIN:VEVENT
DTSTART;VALUE=DATE:20220801
DTEND;VALUE=DATE:20220803
DTSTAMP:20260419T170456
CREATED:20220227T024725Z
LAST-MODIFIED:20220227T024725Z
UID:10000189-1659376800-1659463199@wisconsin.pga.com
SUMMARY:P.A.T. #3
DESCRIPTION:
URL:https://wisconsin.pga.com/event/p-a-t-3-3-2/
LOCATION:Reedsburg CC\, 3003 East Main Street\, Reedsburg\, WI\, 53959\, United States
CATEGORIES:All Tournaments,P.A.T.
GEO:43.5332714;-89.9626069
X-APPLE-STRUCTURED-LOCATION;VALUE=URI;X-ADDRESS=Reedsburg CC 3003 East Main Street Reedsburg WI 53959 United States;X-APPLE-RADIUS=500;X-TITLE=3003 East Main Street:geo:-89.9626069,43.5332714
END:VEVENT
BEGIN:VEVENT
DTSTART;VALUE=DATE:20220707
DTEND;VALUE=DATE:20220709
DTSTAMP:20260419T170456
CREATED:20220227T021122Z
LAST-MODIFIED:20220227T021122Z
UID:10000071-1657216800-1657303199@wisconsin.pga.com
SUMMARY:P.A.T. #2
DESCRIPTION:
URL:https://wisconsin.pga.com/event/p-a-t-2-2-2/
LOCATION:Northbrook Golf & Grill\, 407 Northbrook Rd\, Luxemburg\, 54217
CATEGORIES:All Tournaments,P.A.T.
GEO:44.557726;-87.705436
X-APPLE-STRUCTURED-LOCATION;VALUE=URI;X-ADDRESS=Northbrook Golf & Grill 407 Northbrook Rd Luxemburg 54217;X-APPLE-RADIUS=500;X-TITLE=407 Northbrook Rd:geo:-87.705436,44.557726
END:VEVENT
BEGIN:VEVENT
DTSTART;VALUE=DATE:20220606
DTEND;VALUE=DATE:20220608
DTSTAMP:20260419T170456
CREATED:20220227T015815Z
LAST-MODIFIED:20220227T015815Z
UID:10000063-1654538400-1654624799@wisconsin.pga.com
SUMMARY:P.A.T. #1
DESCRIPTION:
URL:https://wisconsin.pga.com/event/pat-1-3-2/
LOCATION:Edgewood GC – Pines Course\, W240 S10050 Castle Road\, Big Bend\, WI\, 53103\, United States
CATEGORIES:All Tournaments,P.A.T.
GEO:42.8608722;-88.2288126
X-APPLE-STRUCTURED-LOCATION;VALUE=URI;X-ADDRESS=Edgewood GC – Pines Course W240 S10050 Castle Road Big Bend WI 53103 United States;X-APPLE-RADIUS=500;X-TITLE=W240 S10050 Castle Road:geo:-88.2288126,42.8608722
END:VEVENT
BEGIN:VEVENT
DTSTART;VALUE=DATE:20210920
DTEND;VALUE=DATE:20210922
DTSTAMP:20260419T170456
CREATED:20210126T043922Z
LAST-MODIFIED:20210126T043922Z
UID:10000031-1632160800-1632247199@wisconsin.pga.com
SUMMARY:P.A.T. #5
DESCRIPTION:
URL:https://wisconsin.pga.com/event/pat-5-3/
LOCATION:Odana Hills GC\, 4635 Odana Road\, Madison\, WI\, 53711\, United States
CATEGORIES:All Tournaments,P.A.T.
GEO:43.048044;-89.459298
X-APPLE-STRUCTURED-LOCATION;VALUE=URI;X-ADDRESS=Odana Hills GC 4635 Odana Road Madison WI 53711 United States;X-APPLE-RADIUS=500;X-TITLE=4635 Odana Road:geo:-89.459298,43.048044
END:VEVENT
BEGIN:VEVENT
DTSTART;VALUE=DATE:20210906
DTEND;VALUE=DATE:20210908
DTSTAMP:20260419T170456
CREATED:20210126T043733Z
LAST-MODIFIED:20210126T043733Z
UID:10000029-1630951200-1631037599@wisconsin.pga.com
SUMMARY:P.A.T. #4
DESCRIPTION:
URL:https://wisconsin.pga.com/event/pat-4-3/
LOCATION:Western Lakes GC\, W287 N1963 Oakton Road\, Pewaukee\, WI\, 53072\, United States
CATEGORIES:All Tournaments,P.A.T.
GEO:43.0544436;-88.3166014
X-APPLE-STRUCTURED-LOCATION;VALUE=URI;X-ADDRESS=Western Lakes GC W287 N1963 Oakton Road Pewaukee WI 53072 United States;X-APPLE-RADIUS=500;X-TITLE=W287 N1963 Oakton Road:geo:-88.3166014,43.0544436
END:VEVENT
BEGIN:VEVENT
DTSTART;VALUE=DATE:20210804
DTEND;VALUE=DATE:20210806
DTSTAMP:20260419T170456
CREATED:20210126T033409Z
LAST-MODIFIED:20210126T033409Z
UID:10000109-1628100000-1628186399@wisconsin.pga.com
SUMMARY:P.A.T. #3
DESCRIPTION:
URL:https://wisconsin.pga.com/event/p-a-t-3-3/
LOCATION:Reedsburg CC\, 3003 East Main Street\, Reedsburg\, WI\, 53959\, United States
CATEGORIES:All Tournaments,P.A.T.
GEO:43.5332714;-89.9626069
X-APPLE-STRUCTURED-LOCATION;VALUE=URI;X-ADDRESS=Reedsburg CC 3003 East Main Street Reedsburg WI 53959 United States;X-APPLE-RADIUS=500;X-TITLE=3003 East Main Street:geo:-89.9626069,43.5332714
END:VEVENT
BEGIN:VEVENT
DTSTART;VALUE=DATE:20210708
DTEND;VALUE=DATE:20210710
DTSTAMP:20260419T170456
CREATED:20210126T012606Z
LAST-MODIFIED:20210126T012606Z
UID:10000088-1625767200-1625853599@wisconsin.pga.com
SUMMARY:P.A.T. #2
DESCRIPTION:
URL:https://wisconsin.pga.com/event/p-a-t-2-2/
LOCATION:Quit-Qui-OC GC\, 500 Quit Qui Oc Lane\, Elkhart Lake\, WI\, 53020\, United States
CATEGORIES:All Tournaments,P.A.T.
GEO:43.8251686;-88.0119432
X-APPLE-STRUCTURED-LOCATION;VALUE=URI;X-ADDRESS=Quit-Qui-OC GC 500 Quit Qui Oc Lane Elkhart Lake WI 53020 United States;X-APPLE-RADIUS=500;X-TITLE=500 Quit Qui Oc Lane:geo:-88.0119432,43.8251686
END:VEVENT
BEGIN:VEVENT
DTSTART;VALUE=DATE:20210531
DTEND;VALUE=DATE:20210602
DTSTAMP:20260419T170456
CREATED:20210126T001304Z
LAST-MODIFIED:20210126T001304Z
UID:10000008-1622484000-1622570399@wisconsin.pga.com
SUMMARY:P.A.T. #1
DESCRIPTION:
URL:https://wisconsin.pga.com/event/pat-1-3/
LOCATION:Edgewood GC – Pines Course\, W240 S10050 Castle Road\, Big Bend\, WI\, 53103\, United States
CATEGORIES:All Tournaments,P.A.T.
GEO:42.8608722;-88.2288126
X-APPLE-STRUCTURED-LOCATION;VALUE=URI;X-ADDRESS=Edgewood GC – Pines Course W240 S10050 Castle Road Big Bend WI 53103 United States;X-APPLE-RADIUS=500;X-TITLE=W240 S10050 Castle Road:geo:-88.2288126,42.8608722
END:VEVENT
BEGIN:VEVENT
DTSTART;VALUE=DATE:20200803
DTEND;VALUE=DATE:20200805
DTSTAMP:20260419T170456
CREATED:20200408T013511Z
LAST-MODIFIED:20200408T013511Z
UID:10000043-1596477600-1596563999@wisconsin.pga.com
SUMMARY:P.A.T. #3
DESCRIPTION:
URL:https://wisconsin.pga.com/event/p-a-t-3/
LOCATION:Reedsburg CC\, 3003 East Main Street\, Reedsburg\, WI\, 53959\, United States
CATEGORIES:All Tournaments,P.A.T.
GEO:43.5332714;-89.9626069
X-APPLE-STRUCTURED-LOCATION;VALUE=URI;X-ADDRESS=Reedsburg CC 3003 East Main Street Reedsburg WI 53959 United States;X-APPLE-RADIUS=500;X-TITLE=3003 East Main Street:geo:-89.9626069,43.5332714
END:VEVENT
BEGIN:VEVENT
DTSTART;VALUE=DATE:20200709
DTEND;VALUE=DATE:20200711
DTSTAMP:20260419T170456
CREATED:20200408T012936Z
LAST-MODIFIED:20200408T012936Z
UID:10000041-1594317600-1594403999@wisconsin.pga.com
SUMMARY:P.A.T. #2
DESCRIPTION:
URL:https://wisconsin.pga.com/event/p-a-t-2/
LOCATION:Quit-Qui-OC GC\, 500 Quit Qui Oc Lane\, Elkhart Lake\, WI\, 53020\, United States
CATEGORIES:All Tournaments,P.A.T.
GEO:43.8251686;-88.0119432
X-APPLE-STRUCTURED-LOCATION;VALUE=URI;X-ADDRESS=Quit-Qui-OC GC 500 Quit Qui Oc Lane Elkhart Lake WI 53020 United States;X-APPLE-RADIUS=500;X-TITLE=500 Quit Qui Oc Lane:geo:-88.0119432,43.8251686
END:VEVENT
END:VCALENDAR