BEGIN:VCALENDAR
VERSION:2.0
PRODID:-//Wisconsin PGA - ECPv6.15.20//NONSGML v1.0//EN
CALSCALE:GREGORIAN
METHOD:PUBLISH
X-WR-CALNAME:Wisconsin PGA
X-ORIGINAL-URL:https://wisconsin.pga.com
X-WR-CALDESC:Events for Wisconsin PGA
REFRESH-INTERVAL;VALUE=DURATION:PT1H
X-Robots-Tag:noindex
X-PUBLISHED-TTL:PT1H
BEGIN:VTIMEZONE
TZID:America/Chicago
BEGIN:DAYLIGHT
TZOFFSETFROM:-0600
TZOFFSETTO:-0500
TZNAME:CDT
DTSTART:20250309T080000
END:DAYLIGHT
BEGIN:STANDARD
TZOFFSETFROM:-0500
TZOFFSETTO:-0600
TZNAME:CST
DTSTART:20251102T070000
END:STANDARD
BEGIN:DAYLIGHT
TZOFFSETFROM:-0600
TZOFFSETTO:-0500
TZNAME:CDT
DTSTART:20260308T080000
END:DAYLIGHT
BEGIN:STANDARD
TZOFFSETFROM:-0500
TZOFFSETTO:-0600
TZNAME:CST
DTSTART:20261101T070000
END:STANDARD
BEGIN:DAYLIGHT
TZOFFSETFROM:-0600
TZOFFSETTO:-0500
TZNAME:CDT
DTSTART:20270314T080000
END:DAYLIGHT
BEGIN:STANDARD
TZOFFSETFROM:-0500
TZOFFSETTO:-0600
TZNAME:CST
DTSTART:20271107T070000
END:STANDARD
END:VTIMEZONE
BEGIN:VEVENT
DTSTART;VALUE=DATE:20260720
DTEND;VALUE=DATE:20260721
DTSTAMP:20260425T094959
CREATED:20260307T221239Z
LAST-MODIFIED:20260307T221239Z
UID:10000677-1784505600-1784591999@wisconsin.pga.com
SUMMARY:Wisconsin Assistant PGA Professional Championship
DESCRIPTION:
URL:https://wisconsin.pga.com/event/wisconsin-assistant-pga-professional-championship-2/
LOCATION:The Bull\, 1 Long Drive\, Sheboygan Falls\, WI\, 53085\, United States
CATEGORIES:All Tournaments,Major Championships
GEO:43.7097857;-87.8093688
X-APPLE-STRUCTURED-LOCATION;VALUE=URI;X-ADDRESS=The Bull 1 Long Drive Sheboygan Falls WI 53085 United States;X-APPLE-RADIUS=500;X-TITLE=1 Long Drive:geo:-87.8093688,43.7097857
END:VEVENT
BEGIN:VEVENT
DTSTART;VALUE=DATE:20260720
DTEND;VALUE=DATE:20260722
DTSTAMP:20260425T094959
CREATED:20260307T221138Z
LAST-MODIFIED:20260307T221138Z
UID:10000680-1784505600-1784678399@wisconsin.pga.com
SUMMARY:Wisconsin Senior PGA Professional Championship
DESCRIPTION:
URL:https://wisconsin.pga.com/event/wisconsin-senior-pga-professional-championship-5/
LOCATION:The Bull\, 1 Long Drive\, Sheboygan Falls\, WI\, 53085\, United States
CATEGORIES:All Tournaments,Major Championships
GEO:43.7097857;-87.8093688
X-APPLE-STRUCTURED-LOCATION;VALUE=URI;X-ADDRESS=The Bull 1 Long Drive Sheboygan Falls WI 53085 United States;X-APPLE-RADIUS=500;X-TITLE=1 Long Drive:geo:-87.8093688,43.7097857
END:VEVENT
END:VCALENDAR