BEGIN:VCALENDAR
VERSION:2.0
PRODID:-//Wisconsin PGA - ECPv6.15.20//NONSGML v1.0//EN
CALSCALE:GREGORIAN
METHOD:PUBLISH
X-ORIGINAL-URL:https://wisconsin.pga.com
X-WR-CALDESC:Events for Wisconsin PGA
REFRESH-INTERVAL;VALUE=DURATION:PT1H
X-Robots-Tag:noindex
X-PUBLISHED-TTL:PT1H
BEGIN:VTIMEZONE
TZID:America/Chicago
BEGIN:DAYLIGHT
TZOFFSETFROM:-0600
TZOFFSETTO:-0500
TZNAME:CDT
DTSTART:20220313T080000
END:DAYLIGHT
BEGIN:STANDARD
TZOFFSETFROM:-0500
TZOFFSETTO:-0600
TZNAME:CST
DTSTART:20221106T070000
END:STANDARD
BEGIN:DAYLIGHT
TZOFFSETFROM:-0600
TZOFFSETTO:-0500
TZNAME:CDT
DTSTART:20230312T080000
END:DAYLIGHT
BEGIN:STANDARD
TZOFFSETFROM:-0500
TZOFFSETTO:-0600
TZNAME:CST
DTSTART:20231105T070000
END:STANDARD
BEGIN:DAYLIGHT
TZOFFSETFROM:-0600
TZOFFSETTO:-0500
TZNAME:CDT
DTSTART:20240310T080000
END:DAYLIGHT
BEGIN:STANDARD
TZOFFSETFROM:-0500
TZOFFSETTO:-0600
TZNAME:CST
DTSTART:20241103T070000
END:STANDARD
END:VTIMEZONE
BEGIN:VEVENT
DTSTART;VALUE=DATE:20230612
DTEND;VALUE=DATE:20230615
DTSTAMP:20260423T093832
CREATED:20230317T033153Z
LAST-MODIFIED:20230714T214537Z
UID:10000247-1686528000-1686787199@wisconsin.pga.com
SUMMARY:Sentry Wisconsin State Women's Open
DESCRIPTION:
URL:https://wisconsin.pga.com/event/wisconsin-state-womens-open-23/
LOCATION:Blackhawk CC\, 3606 Blackhawk Drive\, Madison\, WI\, 53705\, United States
CATEGORIES:All Tournaments,Major Championships
GEO:43.0793191;-89.4546313
X-APPLE-STRUCTURED-LOCATION;VALUE=URI;X-ADDRESS=Blackhawk CC 3606 Blackhawk Drive Madison WI 53705 United States;X-APPLE-RADIUS=500;X-TITLE=3606 Blackhawk Drive:geo:-89.4546313,43.0793191
END:VEVENT
END:VCALENDAR