BEGIN:VCALENDAR
VERSION:2.0
PRODID:-//Wisconsin PGA - ECPv6.15.20//NONSGML v1.0//EN
CALSCALE:GREGORIAN
METHOD:PUBLISH
X-WR-CALNAME:Wisconsin PGA
X-ORIGINAL-URL:https://wisconsin.pga.com
X-WR-CALDESC:Events for Wisconsin PGA
REFRESH-INTERVAL;VALUE=DURATION:PT1H
X-Robots-Tag:noindex
X-PUBLISHED-TTL:PT1H
BEGIN:VTIMEZONE
TZID:America/Chicago
BEGIN:DAYLIGHT
TZOFFSETFROM:-0600
TZOFFSETTO:-0500
TZNAME:CDT
DTSTART:20210314T080000
END:DAYLIGHT
BEGIN:STANDARD
TZOFFSETFROM:-0500
TZOFFSETTO:-0600
TZNAME:CST
DTSTART:20211107T070000
END:STANDARD
BEGIN:DAYLIGHT
TZOFFSETFROM:-0600
TZOFFSETTO:-0500
TZNAME:CDT
DTSTART:20220313T080000
END:DAYLIGHT
BEGIN:STANDARD
TZOFFSETFROM:-0500
TZOFFSETTO:-0600
TZNAME:CST
DTSTART:20221106T070000
END:STANDARD
BEGIN:DAYLIGHT
TZOFFSETFROM:-0600
TZOFFSETTO:-0500
TZNAME:CDT
DTSTART:20230312T080000
END:DAYLIGHT
BEGIN:STANDARD
TZOFFSETFROM:-0500
TZOFFSETTO:-0600
TZNAME:CST
DTSTART:20231105T070000
END:STANDARD
END:VTIMEZONE
BEGIN:VEVENT
DTSTART;VALUE=DATE:20220508
DTEND;VALUE=DATE:20220511
DTSTAMP:20260421T181139
CREATED:20220227T011403Z
LAST-MODIFIED:20220227T011403Z
UID:10000151-1652032800-1652205599@wisconsin.pga.com
SUMMARY:WPGA Match Play Championship
DESCRIPTION:
URL:https://wisconsin.pga.com/event/wpga-match-play-championship-2-2-2/
LOCATION:Washington County GC\, 1365 Clover Rd\, Hartford\, WI\, 53027\, United States
CATEGORIES:All Tournaments,Major Championships,Match Plays
GEO:43.3380817;-88.3548197
X-APPLE-STRUCTURED-LOCATION;VALUE=URI;X-ADDRESS=Washington County GC 1365 Clover Rd Hartford WI 53027 United States;X-APPLE-RADIUS=500;X-TITLE=1365 Clover Rd:geo:-88.3548197,43.3380817
END:VEVENT
END:VCALENDAR