BEGIN:VCALENDAR
VERSION:2.0
PRODID:-//Wisconsin PGA - ECPv6.15.20//NONSGML v1.0//EN
CALSCALE:GREGORIAN
METHOD:PUBLISH
X-ORIGINAL-URL:https://wisconsin.pga.com
X-WR-CALDESC:Events for Wisconsin PGA
REFRESH-INTERVAL;VALUE=DURATION:PT1H
X-Robots-Tag:noindex
X-PUBLISHED-TTL:PT1H
BEGIN:VTIMEZONE
TZID:America/Chicago
BEGIN:DAYLIGHT
TZOFFSETFROM:-0600
TZOFFSETTO:-0500
TZNAME:CDT
DTSTART:20230312T080000
END:DAYLIGHT
BEGIN:STANDARD
TZOFFSETFROM:-0500
TZOFFSETTO:-0600
TZNAME:CST
DTSTART:20231105T070000
END:STANDARD
BEGIN:DAYLIGHT
TZOFFSETFROM:-0600
TZOFFSETTO:-0500
TZNAME:CDT
DTSTART:20240310T080000
END:DAYLIGHT
BEGIN:STANDARD
TZOFFSETFROM:-0500
TZOFFSETTO:-0600
TZNAME:CST
DTSTART:20241103T070000
END:STANDARD
BEGIN:DAYLIGHT
TZOFFSETFROM:-0600
TZOFFSETTO:-0500
TZNAME:CDT
DTSTART:20250309T080000
END:DAYLIGHT
BEGIN:STANDARD
TZOFFSETFROM:-0500
TZOFFSETTO:-0600
TZNAME:CST
DTSTART:20251102T070000
END:STANDARD
END:VTIMEZONE
BEGIN:VEVENT
DTSTART;VALUE=DATE:20241114
DTEND;VALUE=DATE:20241118
DTSTAMP:20260423T091255
CREATED:20240322T172218Z
LAST-MODIFIED:20240322T172218Z
UID:10000178-1731542400-1731887999@wisconsin.pga.com
SUMMARY:National Car Rental Assistant PGA Professional Championship
DESCRIPTION:
URL:https://wisconsin.pga.com/event/national-car-rental-assistant-pga-professional-championship-3/
LOCATION:PGA Golf Club\, 1916 Perfect Drive\, Port St. Lucie\, FL\, 34986\, United States
CATEGORIES:National PGA Member Championships
GEO:27.309791;-80.4295661
X-APPLE-STRUCTURED-LOCATION;VALUE=URI;X-ADDRESS=PGA Golf Club 1916 Perfect Drive Port St. Lucie FL 34986 United States;X-APPLE-RADIUS=500;X-TITLE=1916 Perfect Drive:geo:-80.4295661,27.309791
END:VEVENT
END:VCALENDAR