BEGIN:VCALENDAR
VERSION:2.0
PRODID:-//Wisconsin PGA - ECPv6.15.20//NONSGML v1.0//EN
CALSCALE:GREGORIAN
METHOD:PUBLISH
X-WR-CALNAME:Wisconsin PGA
X-ORIGINAL-URL:https://wisconsin.pga.com
X-WR-CALDESC:Events for Wisconsin PGA
REFRESH-INTERVAL;VALUE=DURATION:PT1H
X-Robots-Tag:noindex
X-PUBLISHED-TTL:PT1H
BEGIN:VTIMEZONE
TZID:America/Chicago
BEGIN:DAYLIGHT
TZOFFSETFROM:-0600
TZOFFSETTO:-0500
TZNAME:CDT
DTSTART:20230312T080000
END:DAYLIGHT
BEGIN:STANDARD
TZOFFSETFROM:-0500
TZOFFSETTO:-0600
TZNAME:CST
DTSTART:20231105T070000
END:STANDARD
BEGIN:DAYLIGHT
TZOFFSETFROM:-0600
TZOFFSETTO:-0500
TZNAME:CDT
DTSTART:20240310T080000
END:DAYLIGHT
BEGIN:STANDARD
TZOFFSETFROM:-0500
TZOFFSETTO:-0600
TZNAME:CST
DTSTART:20241103T070000
END:STANDARD
BEGIN:DAYLIGHT
TZOFFSETFROM:-0600
TZOFFSETTO:-0500
TZNAME:CDT
DTSTART:20250309T080000
END:DAYLIGHT
BEGIN:STANDARD
TZOFFSETFROM:-0500
TZOFFSETTO:-0600
TZNAME:CST
DTSTART:20251102T070000
END:STANDARD
END:VTIMEZONE
BEGIN:VEVENT
DTSTART;VALUE=DATE:20240923
DTEND;VALUE=DATE:20240924
DTSTAMP:20260420T181726
CREATED:20240322T164940Z
LAST-MODIFIED:20240322T164940Z
UID:10000323-1727049600-1727135999@wisconsin.pga.com
SUMMARY:Pro-Assistant
DESCRIPTION:
URL:https://wisconsin.pga.com/event/pro-assistant/
LOCATION:Westmoor CC\, 400 South Moorland Road\, Brookfield\, WI\, 53005\, United States
CATEGORIES:All Tournaments,Pro-Pros
GEO:43.0310648;-88.1053983
X-APPLE-STRUCTURED-LOCATION;VALUE=URI;X-ADDRESS=Westmoor CC 400 South Moorland Road Brookfield WI 53005 United States;X-APPLE-RADIUS=500;X-TITLE=400 South Moorland Road:geo:-88.1053983,43.0310648
END:VEVENT
END:VCALENDAR