BEGIN:VCALENDAR
VERSION:2.0
PRODID:-//Wisconsin PGA - ECPv6.15.20//NONSGML v1.0//EN
CALSCALE:GREGORIAN
METHOD:PUBLISH
X-ORIGINAL-URL:https://wisconsin.pga.com
X-WR-CALDESC:Events for Wisconsin PGA
REFRESH-INTERVAL;VALUE=DURATION:PT1H
X-Robots-Tag:noindex
X-PUBLISHED-TTL:PT1H
BEGIN:VTIMEZONE
TZID:America/Chicago
BEGIN:DAYLIGHT
TZOFFSETFROM:-0600
TZOFFSETTO:-0500
TZNAME:CDT
DTSTART:20230312T080000
END:DAYLIGHT
BEGIN:STANDARD
TZOFFSETFROM:-0500
TZOFFSETTO:-0600
TZNAME:CST
DTSTART:20231105T070000
END:STANDARD
BEGIN:DAYLIGHT
TZOFFSETFROM:-0600
TZOFFSETTO:-0500
TZNAME:CDT
DTSTART:20240310T080000
END:DAYLIGHT
BEGIN:STANDARD
TZOFFSETFROM:-0500
TZOFFSETTO:-0600
TZNAME:CST
DTSTART:20241103T070000
END:STANDARD
BEGIN:DAYLIGHT
TZOFFSETFROM:-0600
TZOFFSETTO:-0500
TZNAME:CDT
DTSTART:20250309T080000
END:DAYLIGHT
BEGIN:STANDARD
TZOFFSETFROM:-0500
TZOFFSETTO:-0600
TZNAME:CST
DTSTART:20251102T070000
END:STANDARD
END:VTIMEZONE
BEGIN:VEVENT
DTSTART;VALUE=DATE:20240903
DTEND;VALUE=DATE:20240905
DTSTAMP:20260420T231634
CREATED:20240322T163923Z
LAST-MODIFIED:20240322T163923Z
UID:10000320-1725321600-1725494399@wisconsin.pga.com
SUMMARY:Wisconsin State Senior Open
DESCRIPTION:
URL:https://wisconsin.pga.com/event/wisconsin-state-senior-open-3/
LOCATION:North Shore GC\, N8421 N Shore Road\, Menasha\, WI\, 54952\, United States
CATEGORIES:All Tournaments,Major Championships
GEO:44.19782;-88.336402
X-APPLE-STRUCTURED-LOCATION;VALUE=URI;X-ADDRESS=North Shore GC N8421 N Shore Road Menasha WI 54952 United States;X-APPLE-RADIUS=500;X-TITLE=N8421 N Shore Road:geo:-88.336402,44.19782
END:VEVENT
END:VCALENDAR