BEGIN:VCALENDAR
VERSION:2.0
PRODID:-//Wisconsin PGA - ECPv6.15.20//NONSGML v1.0//EN
CALSCALE:GREGORIAN
METHOD:PUBLISH
X-ORIGINAL-URL:https://wisconsin.pga.com
X-WR-CALDESC:Events for Wisconsin PGA
REFRESH-INTERVAL;VALUE=DURATION:PT1H
X-Robots-Tag:noindex
X-PUBLISHED-TTL:PT1H
BEGIN:VTIMEZONE
TZID:America/Chicago
BEGIN:DAYLIGHT
TZOFFSETFROM:-0600
TZOFFSETTO:-0500
TZNAME:CDT
DTSTART:20230312T080000
END:DAYLIGHT
BEGIN:STANDARD
TZOFFSETFROM:-0500
TZOFFSETTO:-0600
TZNAME:CST
DTSTART:20231105T070000
END:STANDARD
BEGIN:DAYLIGHT
TZOFFSETFROM:-0600
TZOFFSETTO:-0500
TZNAME:CDT
DTSTART:20240310T080000
END:DAYLIGHT
BEGIN:STANDARD
TZOFFSETFROM:-0500
TZOFFSETTO:-0600
TZNAME:CST
DTSTART:20241103T070000
END:STANDARD
BEGIN:DAYLIGHT
TZOFFSETFROM:-0600
TZOFFSETTO:-0500
TZNAME:CDT
DTSTART:20250309T080000
END:DAYLIGHT
BEGIN:STANDARD
TZOFFSETFROM:-0500
TZOFFSETTO:-0600
TZNAME:CST
DTSTART:20251102T070000
END:STANDARD
END:VTIMEZONE
BEGIN:VEVENT
DTSTART;VALUE=DATE:20240826
DTEND;VALUE=DATE:20240827
DTSTAMP:20260420T191527
CREATED:20240322T033042Z
LAST-MODIFIED:20240322T033042Z
UID:10000317-1724630400-1724716799@wisconsin.pga.com
SUMMARY:South Hills Pro-Am Benefitting PGA Reach Wisconsin
DESCRIPTION:
URL:https://wisconsin.pga.com/event/south-hills-pro-am/
LOCATION:South Hills G&CC\, 1175 Fond du Lac Avenue\, Fond du Lac\, WI\, 54935\, United States
CATEGORIES:All Tournaments,Pro-Ams
GEO:43.754867;-88.410427
X-APPLE-STRUCTURED-LOCATION;VALUE=URI;X-ADDRESS=South Hills G&CC 1175 Fond du Lac Avenue Fond du Lac WI 54935 United States;X-APPLE-RADIUS=500;X-TITLE=1175 Fond du Lac Avenue:geo:-88.410427,43.754867
END:VEVENT
END:VCALENDAR