BEGIN:VCALENDAR
VERSION:2.0
PRODID:-//Wisconsin PGA - ECPv6.15.20//NONSGML v1.0//EN
CALSCALE:GREGORIAN
METHOD:PUBLISH
X-WR-CALNAME:Wisconsin PGA
X-ORIGINAL-URL:https://wisconsin.pga.com
X-WR-CALDESC:Events for Wisconsin PGA
REFRESH-INTERVAL;VALUE=DURATION:PT1H
X-Robots-Tag:noindex
X-PUBLISHED-TTL:PT1H
BEGIN:VTIMEZONE
TZID:America/Chicago
BEGIN:DAYLIGHT
TZOFFSETFROM:-0600
TZOFFSETTO:-0500
TZNAME:CDT
DTSTART:20230312T080000
END:DAYLIGHT
BEGIN:STANDARD
TZOFFSETFROM:-0500
TZOFFSETTO:-0600
TZNAME:CST
DTSTART:20231105T070000
END:STANDARD
BEGIN:DAYLIGHT
TZOFFSETFROM:-0600
TZOFFSETTO:-0500
TZNAME:CDT
DTSTART:20240310T080000
END:DAYLIGHT
BEGIN:STANDARD
TZOFFSETFROM:-0500
TZOFFSETTO:-0600
TZNAME:CST
DTSTART:20241103T070000
END:STANDARD
BEGIN:DAYLIGHT
TZOFFSETFROM:-0600
TZOFFSETTO:-0500
TZNAME:CDT
DTSTART:20250309T080000
END:DAYLIGHT
BEGIN:STANDARD
TZOFFSETFROM:-0500
TZOFFSETTO:-0600
TZNAME:CST
DTSTART:20251102T070000
END:STANDARD
END:VTIMEZONE
BEGIN:VEVENT
DTSTART;VALUE=DATE:20240726
DTEND;VALUE=DATE:20240727
DTSTAMP:20260423T053638
CREATED:20240322T025559Z
LAST-MODIFIED:20240322T025559Z
UID:10000309-1721952000-1722038399@wisconsin.pga.com
SUMMARY:Wisconsin State Open Qualifier #4
DESCRIPTION:
URL:https://wisconsin.pga.com/event/wisconsin-state-open-qualifier-4-2/
LOCATION:Timber Ridge GC\, 10030 Timber Ridge Rd\, Minocqua\, 54548
CATEGORIES:All Tournaments
GEO:45.8234288;-89.7462399
X-APPLE-STRUCTURED-LOCATION;VALUE=URI;X-ADDRESS=Timber Ridge GC 10030 Timber Ridge Rd Minocqua 54548;X-APPLE-RADIUS=500;X-TITLE=10030 Timber Ridge Rd:geo:-89.7462399,45.8234288
END:VEVENT
END:VCALENDAR